BEGIN:VCALENDAR
VERSION:2.0
PRODID:-//Rhondda Red Kites Flag Football - ECPv6.15.20//NONSGML v1.0//EN
CALSCALE:GREGORIAN
METHOD:PUBLISH
X-WR-CALNAME:Rhondda Red Kites Flag Football
X-ORIGINAL-URL:https://rhondda-redkites.co.uk
X-WR-CALDESC:Events for Rhondda Red Kites Flag Football
REFRESH-INTERVAL;VALUE=DURATION:PT1H
X-Robots-Tag:noindex
X-PUBLISHED-TTL:PT1H
BEGIN:VTIMEZONE
TZID:UTC
BEGIN:STANDARD
TZOFFSETFROM:+0000
TZOFFSETTO:+0000
TZNAME:UTC
DTSTART:20250101T000000
END:STANDARD
END:VTIMEZONE
BEGIN:VEVENT
DTSTART;TZID=UTC:20260301T100000
DTEND;TZID=UTC:20260301T160000
DTSTAMP:20260425T104703
CREATED:20260106T074219Z
LAST-MODIFIED:20260115T171643Z
UID:397-1772359200-1772380800@rhondda-redkites.co.uk
SUMMARY:Tournament - Welsh Bowl
DESCRIPTION:
URL:https://rhondda-redkites.co.uk/event/welsh-bowl/
LOCATION:Eastern Community Campus\, Rumney\, Campws Cymunedol Y Dwyrain Eastern Community Campus\, Trowbridge Rd\, Cardiff\, Cardiff\, CF3 1XZ\, United Kingdom
END:VEVENT
BEGIN:VEVENT
DTSTART;TZID=UTC:20260306T200000
DTEND;TZID=UTC:20260306T220000
DTSTAMP:20260425T104703
CREATED:20251218T200157Z
LAST-MODIFIED:20260205T171717Z
UID:380-1772827200-1772834400@rhondda-redkites.co.uk
SUMMARY:Training
DESCRIPTION:This is a 3G pitch\, please wear appropriate footwear!
URL:https://rhondda-redkites.co.uk/event/training-3/
LOCATION:Maritime Recreation Ground –  Treforest\, Maritime Recreation Ground\, Gelliwion Rd\, Pontypridd\, CF37 1PF\, United Kingdom
END:VEVENT
BEGIN:VEVENT
DTSTART;TZID=UTC:20260313T200000
DTEND;TZID=UTC:20260313T220000
DTSTAMP:20260425T104703
CREATED:20251218T200312Z
LAST-MODIFIED:20260205T171647Z
UID:382-1773432000-1773439200@rhondda-redkites.co.uk
SUMMARY:Training
DESCRIPTION:This is a 3G pitch\, please wear appropriate footwear!
URL:https://rhondda-redkites.co.uk/event/training-4/
LOCATION:Maritime Recreation Ground –  Treforest\, Maritime Recreation Ground\, Gelliwion Rd\, Pontypridd\, CF37 1PF\, United Kingdom
END:VEVENT
BEGIN:VEVENT
DTSTART;TZID=UTC:20260320T200000
DTEND;TZID=UTC:20260320T220000
DTSTAMP:20260425T104703
CREATED:20251218T200340Z
LAST-MODIFIED:20260205T171623Z
UID:384-1774036800-1774044000@rhondda-redkites.co.uk
SUMMARY:Training
DESCRIPTION:This is a 3G pitch\, please wear appropriate footwear!
URL:https://rhondda-redkites.co.uk/event/training-5/
LOCATION:Maritime Recreation Ground –  Treforest\, Maritime Recreation Ground\, Gelliwion Rd\, Pontypridd\, CF37 1PF\, United Kingdom
END:VEVENT
BEGIN:VEVENT
DTSTART;TZID=UTC:20260327T200000
DTEND;TZID=UTC:20260327T220000
DTSTAMP:20260425T104703
CREATED:20251218T200424Z
LAST-MODIFIED:20260205T171556Z
UID:386-1774641600-1774648800@rhondda-redkites.co.uk
SUMMARY:Training
DESCRIPTION:This is a 3G pitch\, please wear appropriate footwear!
URL:https://rhondda-redkites.co.uk/event/training-6/
LOCATION:Maritime Recreation Ground –  Treforest\, Maritime Recreation Ground\, Gelliwion Rd\, Pontypridd\, CF37 1PF\, United Kingdom
END:VEVENT
END:VCALENDAR