BEGIN:VCALENDAR
VERSION:2.0
PRODID:-//Rhondda Red Kites Flag Football - ECPv6.15.20//NONSGML v1.0//EN
CALSCALE:GREGORIAN
METHOD:PUBLISH
X-ORIGINAL-URL:https://rhondda-redkites.co.uk
X-WR-CALDESC:Events for Rhondda Red Kites Flag Football
REFRESH-INTERVAL;VALUE=DURATION:PT1H
X-Robots-Tag:noindex
X-PUBLISHED-TTL:PT1H
BEGIN:VTIMEZONE
TZID:UTC
BEGIN:STANDARD
TZOFFSETFROM:+0000
TZOFFSETTO:+0000
TZNAME:UTC
DTSTART:20250101T000000
END:STANDARD
END:VTIMEZONE
BEGIN:VEVENT
DTSTART;TZID=UTC:20260227T200000
DTEND;TZID=UTC:20260227T220000
DTSTAMP:20260425T123914
CREATED:20251218T195937Z
LAST-MODIFIED:20260205T171522Z
UID:378-1772222400-1772229600@rhondda-redkites.co.uk
SUMMARY:Training
DESCRIPTION:This is a 3G pitch\, please wear appropriate footwear!
URL:https://rhondda-redkites.co.uk/event/training-2/
LOCATION:Maritime Recreation Ground –  Treforest\, Maritime Recreation Ground\, Gelliwion Rd\, Pontypridd\, CF37 1PF\, United Kingdom
END:VEVENT
END:VCALENDAR